BEGIN:VCALENDAR
VERSION:2.0
PRODID:-//axis.firespring.org//NONSGML kigkonsult.se iCalcreator 2.30.10//
CALSCALE:GREGORIAN
METHOD:PUBLISH
UID:076e364f-ab4e-4db3-a1f8-2498d2b814c0
X-WR-CALDESC:Monthly Board Meeting
X-WR-RELCALID:065bc387f6b0b18ff7887cca3be0e1ce
X-WR-TIMEZONE:America/Chicago
BEGIN:VTIMEZONE
TZID:America/Chicago
BEGIN:STANDARD
TZNAME:CST
DTSTART:20241103T020000
TZOFFSETFROM:-0500
TZOFFSETTO:-0600
RDATE:20251102T020000
END:STANDARD
BEGIN:DAYLIGHT
TZNAME:CDT
DTSTART:20240310T020000
TZOFFSETFROM:-0600
TZOFFSETTO:-0500
RDATE:20250309T020000
RDATE:20260308T020000
END:DAYLIGHT
END:VTIMEZONE
BEGIN:VEVENT
UID:0a9ed8ab-d395-4527-8418-ee079f887f6b
DTSTAMP:20260420T095225Z
DESCRIPTION:Monthly Board Meeting
DTSTART;TZID=America/Chicago:20241213T180000
DTEND;TZID=America/Chicago:20241213T200000
LOCATION:Atrium Meeting Room
SUMMARY:Board Meeting
END:VEVENT
END:VCALENDAR
