BEGIN:VCALENDAR
VERSION:2.0
PRODID:-//axis.firespring.org//NONSGML kigkonsult.se iCalcreator 2.30.10//
CALSCALE:GREGORIAN
METHOD:PUBLISH
UID:1248315a-3c76-4725-ab47-2c8befe388e2
X-WR-CALDESC:Monthly Board Meeting
X-WR-RELCALID:9d12dde6536eb44c30f0f125d778ccb7
X-WR-TIMEZONE:America/Chicago
BEGIN:VTIMEZONE
TZID:America/Chicago
BEGIN:STANDARD
TZNAME:CST
DTSTART:20251102T020000
TZOFFSETFROM:-0500
TZOFFSETTO:-0600
RDATE:20261101T020000
RDATE:20271107T020000
END:STANDARD
BEGIN:DAYLIGHT
TZNAME:CDT
DTSTART:20260308T020000
TZOFFSETFROM:-0600
TZOFFSETTO:-0500
RDATE:20270314T020000
END:DAYLIGHT
END:VTIMEZONE
BEGIN:VEVENT
UID:c76cc168-2c19-4aae-84c8-6c0146431606
DTSTAMP:20260421T095402Z
DESCRIPTION:Monthly Board Meeting
DTSTART;TZID=America/Chicago:20260814T180000
DTEND;TZID=America/Chicago:20260814T200000
LOCATION:Atrium Meeting Room
SUMMARY:Board Meeting
END:VEVENT
END:VCALENDAR
