BEGIN:VCALENDAR
VERSION:2.0
PRODID:-//axis.firespring.org//NONSGML kigkonsult.se iCalcreator 2.30.10//
CALSCALE:GREGORIAN
METHOD:PUBLISH
UID:87108075-98ca-46dc-90b5-c4290dc22050
X-WR-CALDESC:Monthly Board Meeting
X-WR-RELCALID:253c81ce7edf750a50112fb21600ab2d
X-WR-TIMEZONE:America/Chicago
BEGIN:VTIMEZONE
TZID:America/Chicago
BEGIN:STANDARD
TZNAME:CST
DTSTART:20281105T020000
TZOFFSETFROM:-0500
TZOFFSETTO:-0600
RDATE:20291104T020000
END:STANDARD
BEGIN:DAYLIGHT
TZNAME:CDT
DTSTART:20280312T020000
TZOFFSETFROM:-0600
TZOFFSETTO:-0500
RDATE:20290311T020000
RDATE:20300310T020000
END:DAYLIGHT
END:VTIMEZONE
BEGIN:VEVENT
UID:a84d0038-65af-492f-bd0f-798901d98e9e
DTSTAMP:20260421T083011Z
DESCRIPTION:Monthly Board Meeting
DTSTART;TZID=America/Chicago:20281110T180000
DTEND;TZID=America/Chicago:20281110T200000
LOCATION:Atrium Meeting Room
SUMMARY:Board Meeting
END:VEVENT
END:VCALENDAR
