BEGIN:VCALENDAR
VERSION:2.0
PRODID:-//axis.firespring.org//NONSGML kigkonsult.se iCalcreator 2.30.10//
CALSCALE:GREGORIAN
METHOD:PUBLISH
UID:284cc2d4-a7f1-48c2-bda7-0eb050227708
X-WR-CALDESC:Monthly Board Meeting
X-WR-RELCALID:a65473fcc4ef93affb75498cddb3772b
X-WR-TIMEZONE:America/Chicago
BEGIN:VTIMEZONE
TZID:America/Chicago
BEGIN:STANDARD
TZNAME:CST
DTSTART:20281105T020000
TZOFFSETFROM:-0500
TZOFFSETTO:-0600
RDATE:20291104T020000
END:STANDARD
BEGIN:DAYLIGHT
TZNAME:CDT
DTSTART:20280312T020000
TZOFFSETFROM:-0600
TZOFFSETTO:-0500
RDATE:20290311T020000
RDATE:20300310T020000
END:DAYLIGHT
END:VTIMEZONE
BEGIN:VEVENT
UID:83d657f9-dfe3-4946-9053-35e78a835f15
DTSTAMP:20260423T112021Z
DESCRIPTION:Monthly Board Meeting
DTSTART;TZID=America/Chicago:20290112T180000
DTEND;TZID=America/Chicago:20290112T200000
LOCATION:Atrium Meeting Room
SUMMARY:Board Meeting
END:VEVENT
END:VCALENDAR
