BEGIN:VCALENDAR
VERSION:2.0
PRODID:-//axis.firespring.org//NONSGML kigkonsult.se iCalcreator 2.30.10//
CALSCALE:GREGORIAN
METHOD:PUBLISH
UID:f8865583-8f72-4a26-b201-3bf52f971d34
X-WR-CALDESC:Monthly Board Meeting
X-WR-RELCALID:c06017a40c9b97d1c0cf62d2a2359a0a
X-WR-TIMEZONE:America/Chicago
BEGIN:VTIMEZONE
TZID:America/Chicago
BEGIN:STANDARD
TZNAME:CST
DTSTART:20281105T020000
TZOFFSETFROM:-0500
TZOFFSETTO:-0600
RDATE:20291104T020000
END:STANDARD
BEGIN:DAYLIGHT
TZNAME:CDT
DTSTART:20280312T020000
TZOFFSETFROM:-0600
TZOFFSETTO:-0500
RDATE:20290311T020000
RDATE:20300310T020000
END:DAYLIGHT
END:VTIMEZONE
BEGIN:VEVENT
UID:cd1df81b-055c-4fea-a94b-cc4fa58c7a09
DTSTAMP:20260423T134657Z
DESCRIPTION:Monthly Board Meeting
DTSTART;TZID=America/Chicago:20290309T180000
DTEND;TZID=America/Chicago:20290309T200000
LOCATION:Atrium Meeting Room
SUMMARY:Board Meeting
END:VEVENT
END:VCALENDAR
