BEGIN:VCALENDAR
VERSION:2.0
PRODID:-//axis.firespring.org//NONSGML kigkonsult.se iCalcreator 2.30.10//
CALSCALE:GREGORIAN
METHOD:PUBLISH
UID:1b7a742c-1d99-4ca4-ab67-d81ac0abf817
X-WR-CALDESC:Monthly Board Meeting
X-WR-RELCALID:f37dcc4a29d0d5617e791d1dbf7404ec
X-WR-TIMEZONE:America/Chicago
BEGIN:VTIMEZONE
TZID:America/Chicago
BEGIN:STANDARD
TZNAME:CST
DTSTART:20281105T020000
TZOFFSETFROM:-0500
TZOFFSETTO:-0600
RDATE:20291104T020000
END:STANDARD
BEGIN:DAYLIGHT
TZNAME:CDT
DTSTART:20290311T020000
TZOFFSETFROM:-0600
TZOFFSETTO:-0500
RDATE:20300310T020000
END:DAYLIGHT
END:VTIMEZONE
BEGIN:VEVENT
UID:7f147561-8bd1-4853-9d55-99606e3f0455
DTSTAMP:20260423T152032Z
DESCRIPTION:Monthly Board Meeting
DTSTART;TZID=America/Chicago:20290413T180000
DTEND;TZID=America/Chicago:20290413T200000
LOCATION:Atrium Meeting Room
SUMMARY:Board Meeting
END:VEVENT
END:VCALENDAR
