BEGIN:VCALENDAR
VERSION:2.0
PRODID:-//axis.firespring.org//NONSGML kigkonsult.se iCalcreator 2.30.10//
CALSCALE:GREGORIAN
METHOD:PUBLISH
UID:07e3f8b9-a807-4d10-aa06-eff8f1ddc3b3
X-WR-CALDESC:Monthly Board Meeting
X-WR-RELCALID:82348d00f2eb472fda049bd49798c15c
X-WR-TIMEZONE:America/Chicago
BEGIN:VTIMEZONE
TZID:America/Chicago
BEGIN:STANDARD
TZNAME:CST
DTSTART:20281105T020000
TZOFFSETFROM:-0500
TZOFFSETTO:-0600
RDATE:20291104T020000
RDATE:20301103T020000
END:STANDARD
BEGIN:DAYLIGHT
TZNAME:CDT
DTSTART:20290311T020000
TZOFFSETFROM:-0600
TZOFFSETTO:-0500
RDATE:20300310T020000
END:DAYLIGHT
END:VTIMEZONE
BEGIN:VEVENT
UID:891a576c-f818-4142-9940-f046e2c27b7e
DTSTAMP:20260423T181404Z
DESCRIPTION:Monthly Board Meeting
DTSTART;TZID=America/Chicago:20290608T180000
DTEND;TZID=America/Chicago:20290608T200000
LOCATION:Atrium Meeting Room
SUMMARY:Board Meeting
END:VEVENT
END:VCALENDAR
