BEGIN:VCALENDAR
VERSION:2.0
PRODID:-//axis.firespring.org//NONSGML kigkonsult.se iCalcreator 2.30.10//
CALSCALE:GREGORIAN
METHOD:PUBLISH
UID:4455f1a6-1525-4a9a-a6ef-96a805585485
X-WR-CALDESC:Monthly Board Meeting
X-WR-RELCALID:a2abf488b46395c6eeaa0d035933dcd0
X-WR-TIMEZONE:America/Chicago
BEGIN:VTIMEZONE
TZID:America/Chicago
BEGIN:STANDARD
TZNAME:CST
DTSTART:20281105T020000
TZOFFSETFROM:-0500
TZOFFSETTO:-0600
RDATE:20291104T020000
RDATE:20301103T020000
END:STANDARD
BEGIN:DAYLIGHT
TZNAME:CDT
DTSTART:20290311T020000
TZOFFSETFROM:-0600
TZOFFSETTO:-0500
RDATE:20300310T020000
END:DAYLIGHT
END:VTIMEZONE
BEGIN:VEVENT
UID:b625d460-8ab6-4a3d-829e-4095a59d672d
DTSTAMP:20260423T200637Z
DESCRIPTION:Monthly Board Meeting
DTSTART;TZID=America/Chicago:20290713T180000
DTEND;TZID=America/Chicago:20290713T200000
LOCATION:Atrium Meeting Room
SUMMARY:Board Meeting
END:VEVENT
END:VCALENDAR
