BEGIN:VCALENDAR
VERSION:2.0
PRODID:-//axis.firespring.org//NONSGML kigkonsult.se iCalcreator 2.30.10//
CALSCALE:GREGORIAN
METHOD:PUBLISH
UID:4f5ec1d1-495b-4e97-affb-5f3e0b84bd82
X-WR-CALDESC:Monthly Board Meeting
X-WR-RELCALID:95709cbfbc59f7fb45ee7e6ca43958bd
X-WR-TIMEZONE:America/Chicago
BEGIN:VTIMEZONE
TZID:America/Chicago
BEGIN:STANDARD
TZNAME:CST
DTSTART:20281105T020000
TZOFFSETFROM:-0500
TZOFFSETTO:-0600
RDATE:20291104T020000
RDATE:20301103T020000
END:STANDARD
BEGIN:DAYLIGHT
TZNAME:CDT
DTSTART:20290311T020000
TZOFFSETFROM:-0600
TZOFFSETTO:-0500
RDATE:20300310T020000
END:DAYLIGHT
END:VTIMEZONE
BEGIN:VEVENT
UID:7085ff75-f26e-4873-9a0f-9b93fdf5e137
DTSTAMP:20260423T224434Z
DESCRIPTION:Monthly Board Meeting
DTSTART;TZID=America/Chicago:20290810T180000
DTEND;TZID=America/Chicago:20290810T200000
LOCATION:Atrium Meeting Room
SUMMARY:Board Meeting
END:VEVENT
END:VCALENDAR
