BEGIN:VCALENDAR
VERSION:2.0
PRODID:-//axis.firespring.org//NONSGML kigkonsult.se iCalcreator 2.30.10//
CALSCALE:GREGORIAN
METHOD:PUBLISH
UID:35b21edc-b3f2-419b-bcee-2ee720d78e77
X-WR-CALDESC:Monthly Board Meeting
X-WR-RELCALID:7ca36cb2b497561a1b5cbb01405f800a
X-WR-TIMEZONE:America/Chicago
BEGIN:VTIMEZONE
TZID:America/Chicago
BEGIN:STANDARD
TZNAME:CST
DTSTART:20281105T020000
TZOFFSETFROM:-0500
TZOFFSETTO:-0600
RDATE:20291104T020000
RDATE:20301103T020000
END:STANDARD
BEGIN:DAYLIGHT
TZNAME:CDT
DTSTART:20290311T020000
TZOFFSETFROM:-0600
TZOFFSETTO:-0500
RDATE:20300310T020000
RDATE:20310309T020000
END:DAYLIGHT
END:VTIMEZONE
BEGIN:VEVENT
UID:4390d01b-4351-48e6-80dd-febbc8847385
DTSTAMP:20260424T002752Z
DESCRIPTION:Monthly Board Meeting
DTSTART;TZID=America/Chicago:20290914T180000
DTEND;TZID=America/Chicago:20290914T200000
LOCATION:Atrium Meeting Room
SUMMARY:Board Meeting
END:VEVENT
END:VCALENDAR
