BEGIN:VCALENDAR
VERSION:2.0
PRODID:-//axis.firespring.org//NONSGML kigkonsult.se iCalcreator 2.30.10//
CALSCALE:GREGORIAN
METHOD:PUBLISH
UID:cb4aea28-adb7-4c92-b3bf-860325198927
X-WR-CALDESC:Monthly Board Meeting
X-WR-RELCALID:bdf73348fa9a852334278cb9aae660c3
X-WR-TIMEZONE:America/Chicago
BEGIN:VTIMEZONE
TZID:America/Chicago
BEGIN:STANDARD
TZNAME:CST
DTSTART:20291104T020000
TZOFFSETFROM:-0500
TZOFFSETTO:-0600
RDATE:20301103T020000
END:STANDARD
BEGIN:DAYLIGHT
TZNAME:CDT
DTSTART:20290311T020000
TZOFFSETFROM:-0600
TZOFFSETTO:-0500
RDATE:20300310T020000
RDATE:20310309T020000
END:DAYLIGHT
END:VTIMEZONE
BEGIN:VEVENT
UID:b6fc322d-5c3e-4669-b054-b70e9210d112
DTSTAMP:20260424T035306Z
DESCRIPTION:Monthly Board Meeting
DTSTART;TZID=America/Chicago:20291109T180000
DTEND;TZID=America/Chicago:20291109T200000
LOCATION:Atrium Meeting Room
SUMMARY:Board Meeting
END:VEVENT
END:VCALENDAR
