BEGIN:VCALENDAR
VERSION:2.0
PRODID:-//axis.firespring.org//NONSGML kigkonsult.se iCalcreator 2.30.10//
CALSCALE:GREGORIAN
METHOD:PUBLISH
UID:54202219-285f-495d-9daf-db12885c0d99
X-WR-CALDESC:Monthly Board Meeting
X-WR-RELCALID:b5c073e34f1526151603a83aadeb3669
X-WR-TIMEZONE:America/Chicago
BEGIN:VTIMEZONE
TZID:America/Chicago
BEGIN:STANDARD
TZNAME:CST
DTSTART:20291104T020000
TZOFFSETFROM:-0500
TZOFFSETTO:-0600
RDATE:20301103T020000
END:STANDARD
BEGIN:DAYLIGHT
TZNAME:CDT
DTSTART:20290311T020000
TZOFFSETFROM:-0600
TZOFFSETTO:-0500
RDATE:20300310T020000
RDATE:20310309T020000
END:DAYLIGHT
END:VTIMEZONE
BEGIN:VEVENT
UID:2d41019a-4433-4cf8-a6f2-a31f69e93c25
DTSTAMP:20260424T052448Z
DESCRIPTION:Monthly Board Meeting
DTSTART;TZID=America/Chicago:20291214T180000
DTEND;TZID=America/Chicago:20291214T200000
LOCATION:Atrium Meeting Room
SUMMARY:Board Meeting
END:VEVENT
END:VCALENDAR
