BEGIN:VCALENDAR
VERSION:2.0
PRODID:-//axis.firespring.org//NONSGML kigkonsult.se iCalcreator 2.30.10//
CALSCALE:GREGORIAN
METHOD:PUBLISH
UID:c3fd7278-2334-4589-a3b0-f5f396f1b36a
X-WR-CALDESC:Monthly Board Meeting
X-WR-RELCALID:712a8034c6378a1ff165886d71f73b03
X-WR-TIMEZONE:America/Chicago
BEGIN:VTIMEZONE
TZID:America/Chicago
BEGIN:STANDARD
TZNAME:CST
DTSTART:20291104T020000
TZOFFSETFROM:-0500
TZOFFSETTO:-0600
RDATE:20301103T020000
END:STANDARD
BEGIN:DAYLIGHT
TZNAME:CDT
DTSTART:20290311T020000
TZOFFSETFROM:-0600
TZOFFSETTO:-0500
RDATE:20300310T020000
RDATE:20310309T020000
END:DAYLIGHT
END:VTIMEZONE
BEGIN:VEVENT
UID:d21ce454-b68d-45d6-a416-ae0507448baf
DTSTAMP:20260424T070635Z
DESCRIPTION:Monthly Board Meeting
DTSTART;TZID=America/Chicago:20300111T180000
DTEND;TZID=America/Chicago:20300111T200000
LOCATION:Atrium Meeting Room
SUMMARY:Board Meeting
END:VEVENT
END:VCALENDAR
