BEGIN:VCALENDAR
VERSION:2.0
PRODID:-//axis.firespring.org//NONSGML kigkonsult.se iCalcreator 2.30.10//
CALSCALE:GREGORIAN
METHOD:PUBLISH
UID:6e3730be-bcae-4514-9d73-217ea062c420
X-WR-CALDESC:Monthly Board Meeting
X-WR-RELCALID:89a24723ad838bcc8c90d19a5b9b3de6
X-WR-TIMEZONE:America/Chicago
BEGIN:VTIMEZONE
TZID:America/Chicago
BEGIN:STANDARD
TZNAME:CST
DTSTART:20291104T020000
TZOFFSETFROM:-0500
TZOFFSETTO:-0600
RDATE:20301103T020000
END:STANDARD
BEGIN:DAYLIGHT
TZNAME:CDT
DTSTART:20290311T020000
TZOFFSETFROM:-0600
TZOFFSETTO:-0500
RDATE:20300310T020000
RDATE:20310309T020000
END:DAYLIGHT
END:VTIMEZONE
BEGIN:VEVENT
UID:ad99cdf2-a092-49b6-8515-2b4b96e4a386
DTSTAMP:20260424T100740Z
DESCRIPTION:Monthly Board Meeting
DTSTART;TZID=America/Chicago:20300308T180000
DTEND;TZID=America/Chicago:20300308T200000
LOCATION:Atrium Meeting Room
SUMMARY:Board Meeting
END:VEVENT
END:VCALENDAR
