BEGIN:VCALENDAR
VERSION:2.0
PRODID:-//axis.firespring.org//NONSGML kigkonsult.se iCalcreator 2.30.10//
CALSCALE:GREGORIAN
METHOD:PUBLISH
UID:e2968653-4624-4b81-ba7d-8b2ceab13bee
X-WR-CALDESC:Monthly Board Meeting
X-WR-RELCALID:72a4cd56a20f99acc89a78a092b690b0
X-WR-TIMEZONE:America/Chicago
BEGIN:VTIMEZONE
TZID:America/Chicago
BEGIN:STANDARD
TZNAME:CST
DTSTART:20291104T020000
TZOFFSETFROM:-0500
TZOFFSETTO:-0600
RDATE:20301103T020000
END:STANDARD
BEGIN:DAYLIGHT
TZNAME:CDT
DTSTART:20300310T020000
TZOFFSETFROM:-0600
TZOFFSETTO:-0500
RDATE:20310309T020000
END:DAYLIGHT
END:VTIMEZONE
BEGIN:VEVENT
UID:1960cf65-17e5-437d-8341-324e061773cc
DTSTAMP:20260424T114814Z
DESCRIPTION:Monthly Board Meeting
DTSTART;TZID=America/Chicago:20300412T180000
DTEND;TZID=America/Chicago:20300412T200000
LOCATION:Atrium Meeting Room
SUMMARY:Board Meeting
END:VEVENT
END:VCALENDAR
