BEGIN:VCALENDAR
VERSION:2.0
PRODID:-//axis.firespring.org//NONSGML kigkonsult.se iCalcreator 2.30.10//
CALSCALE:GREGORIAN
METHOD:PUBLISH
UID:830b0a5e-ae99-440b-aacc-48a50f565b59
X-WR-CALDESC:Monthly Board Meeting
X-WR-RELCALID:75f8ae2dabdc6537f5c345221d7e596e
X-WR-TIMEZONE:America/Chicago
BEGIN:VTIMEZONE
TZID:America/Chicago
BEGIN:STANDARD
TZNAME:CST
DTSTART:20291104T020000
TZOFFSETFROM:-0500
TZOFFSETTO:-0600
RDATE:20301103T020000
RDATE:20311102T020000
END:STANDARD
BEGIN:DAYLIGHT
TZNAME:CDT
DTSTART:20300310T020000
TZOFFSETFROM:-0600
TZOFFSETTO:-0500
RDATE:20310309T020000
END:DAYLIGHT
END:VTIMEZONE
BEGIN:VEVENT
UID:4c4b9f74-931c-4f0a-ac46-15b8fcf1080a
DTSTAMP:20260424T133452Z
DESCRIPTION:Monthly Board Meeting
DTSTART;TZID=America/Chicago:20300510T180000
DTEND;TZID=America/Chicago:20300510T200000
LOCATION:Atrium Meeting Room
SUMMARY:Board Meeting
END:VEVENT
END:VCALENDAR
