BEGIN:VCALENDAR
VERSION:2.0
PRODID:-//axis.firespring.org//NONSGML kigkonsult.se iCalcreator 2.30.10//
CALSCALE:GREGORIAN
METHOD:PUBLISH
UID:62849e7c-b5e2-4715-9b3c-c9bb358c5262
X-WR-CALDESC:Monthly Board Meeting
X-WR-RELCALID:4f115ab457633da31d1eea192c4416e6
X-WR-TIMEZONE:America/Chicago
BEGIN:VTIMEZONE
TZID:America/Chicago
BEGIN:STANDARD
TZNAME:CST
DTSTART:20291104T020000
TZOFFSETFROM:-0500
TZOFFSETTO:-0600
RDATE:20301103T020000
RDATE:20311102T020000
END:STANDARD
BEGIN:DAYLIGHT
TZNAME:CDT
DTSTART:20300310T020000
TZOFFSETFROM:-0600
TZOFFSETTO:-0500
RDATE:20310309T020000
END:DAYLIGHT
END:VTIMEZONE
BEGIN:VEVENT
UID:41911b15-ae5f-437d-922a-4a79a140b32f
DTSTAMP:20260424T154109Z
DESCRIPTION:Monthly Board Meeting
DTSTART;TZID=America/Chicago:20300614T180000
DTEND;TZID=America/Chicago:20300614T200000
LOCATION:Atrium Meeting Room
SUMMARY:Board Meeting
END:VEVENT
END:VCALENDAR
