BEGIN:VCALENDAR
VERSION:2.0
PRODID:-//axis.firespring.org//NONSGML kigkonsult.se iCalcreator 2.30.10//
CALSCALE:GREGORIAN
METHOD:PUBLISH
UID:747f37c2-2105-4b60-a2a1-81458da008aa
X-WR-CALDESC:Volunteer Appreciation Week is a monthly celebration observed 
 to promote and show appreciation for volunteerism and volunteering.
X-WR-RELCALID:9cc8f6ff67305d14aadc475af5c1af32
X-WR-TIMEZONE:America/Chicago
BEGIN:VTIMEZONE
TZID:America/Chicago
BEGIN:STANDARD
TZNAME:CST
DTSTART:20291104T020000
TZOFFSETFROM:-0500
TZOFFSETTO:-0600
RDATE:20301103T020000
RDATE:20311102T020000
END:STANDARD
BEGIN:DAYLIGHT
TZNAME:CDT
DTSTART:20300310T020000
TZOFFSETFROM:-0600
TZOFFSETTO:-0500
RDATE:20310309T020000
END:DAYLIGHT
END:VTIMEZONE
BEGIN:VEVENT
UID:d77113e8-87b2-42ed-8377-46d72b19639f
DTSTAMP:20260424T152234Z
DESCRIPTION:Volunteer Appreciation Week is a monthly celebration observed t
 o promote and show appreciation for volunteerism and volunteering.
DTSTART;TZID=America/Chicago:20300616T050000
DTEND;TZID=America/Chicago:20300622T050001
LOCATION:
SUMMARY:Volunteer Appreciation Week
END:VEVENT
END:VCALENDAR
