BEGIN:VCALENDAR
VERSION:2.0
PRODID:-//axis.firespring.org//NONSGML kigkonsult.se iCalcreator 2.30.10//
CALSCALE:GREGORIAN
METHOD:PUBLISH
UID:e2e0d5f7-6a4a-434c-a53e-7941f8894182
X-WR-CALDESC:Monthly Board Meeting
X-WR-RELCALID:0b36b1a36d179b32255d599ffb6e212c
X-WR-TIMEZONE:America/Chicago
BEGIN:VTIMEZONE
TZID:America/Chicago
BEGIN:STANDARD
TZNAME:CST
DTSTART:20291104T020000
TZOFFSETFROM:-0500
TZOFFSETTO:-0600
RDATE:20301103T020000
RDATE:20311102T020000
END:STANDARD
BEGIN:DAYLIGHT
TZNAME:CDT
DTSTART:20300310T020000
TZOFFSETFROM:-0600
TZOFFSETTO:-0500
RDATE:20310309T020000
END:DAYLIGHT
END:VTIMEZONE
BEGIN:VEVENT
UID:3fb2b68f-cb29-4bb4-bb8f-785208d4b61a
DTSTAMP:20260424T185348Z
DESCRIPTION:Monthly Board Meeting
DTSTART;TZID=America/Chicago:20300809T180000
DTEND;TZID=America/Chicago:20300809T200000
LOCATION:Atrium Meeting Room
SUMMARY:Board Meeting
END:VEVENT
END:VCALENDAR
