BEGIN:VCALENDAR
VERSION:2.0
PRODID:-//axis.firespring.org//NONSGML kigkonsult.se iCalcreator 2.30.10//
CALSCALE:GREGORIAN
METHOD:PUBLISH
UID:fdfb6ba0-5d6d-431c-a27d-a7ba4e588c6b
X-WR-CALDESC:Monthly Board Meeting
X-WR-RELCALID:cb9c87adb96d0bcd91db8d07546c6f9b
X-WR-TIMEZONE:America/Chicago
BEGIN:VTIMEZONE
TZID:America/Chicago
BEGIN:STANDARD
TZNAME:CST
DTSTART:20291104T020000
TZOFFSETFROM:-0500
TZOFFSETTO:-0600
RDATE:20301103T020000
RDATE:20311102T020000
END:STANDARD
BEGIN:DAYLIGHT
TZNAME:CDT
DTSTART:20300310T020000
TZOFFSETFROM:-0600
TZOFFSETTO:-0500
RDATE:20310309T020000
RDATE:20320314T020000
END:DAYLIGHT
END:VTIMEZONE
BEGIN:VEVENT
UID:c51ddc2b-ed24-4ff1-9472-88a6dd17d986
DTSTAMP:20260424T201821Z
DESCRIPTION:Monthly Board Meeting
DTSTART;TZID=America/Chicago:20300913T180000
DTEND;TZID=America/Chicago:20300913T200000
LOCATION:Atrium Meeting Room
SUMMARY:Board Meeting
END:VEVENT
END:VCALENDAR
