BEGIN:VCALENDAR
VERSION:2.0
PRODID:-//axis.firespring.org//NONSGML kigkonsult.se iCalcreator 2.30.10//
CALSCALE:GREGORIAN
METHOD:PUBLISH
UID:4f839764-eff8-4922-bd78-7bcad8420157
X-WR-CALDESC:Monthly Board Meeting
X-WR-RELCALID:7ee37a28df369ee2b26f075879a0192a
X-WR-TIMEZONE:America/Chicago
BEGIN:VTIMEZONE
TZID:America/Chicago
BEGIN:STANDARD
TZNAME:CST
DTSTART:20291104T020000
TZOFFSETFROM:-0500
TZOFFSETTO:-0600
RDATE:20301103T020000
RDATE:20311102T020000
END:STANDARD
BEGIN:DAYLIGHT
TZNAME:CDT
DTSTART:20300310T020000
TZOFFSETFROM:-0600
TZOFFSETTO:-0500
RDATE:20310309T020000
RDATE:20320314T020000
END:DAYLIGHT
END:VTIMEZONE
BEGIN:VEVENT
UID:33e8b7f6-1ff7-413d-8cb4-c3d3a738303e
DTSTAMP:20260424T214836Z
DESCRIPTION:Monthly Board Meeting
DTSTART;TZID=America/Chicago:20301011T180000
DTEND;TZID=America/Chicago:20301011T200000
LOCATION:Atrium Meeting Room
SUMMARY:Board Meeting
END:VEVENT
END:VCALENDAR
