BEGIN:VCALENDAR
VERSION:2.0
PRODID:-//axis.firespring.org//NONSGML kigkonsult.se iCalcreator 2.30.10//
CALSCALE:GREGORIAN
METHOD:PUBLISH
UID:ab3f1be7-5d42-4142-be9b-02a577a4a85f
X-WR-CALDESC:Monthly Board Meeting
X-WR-RELCALID:e416f747e322fabcdd12b9829ebe59c3
X-WR-TIMEZONE:America/Chicago
BEGIN:VTIMEZONE
TZID:America/Chicago
BEGIN:STANDARD
TZNAME:CST
DTSTART:20301103T020000
TZOFFSETFROM:-0500
TZOFFSETTO:-0600
RDATE:20311102T020000
END:STANDARD
BEGIN:DAYLIGHT
TZNAME:CDT
DTSTART:20300310T020000
TZOFFSETFROM:-0600
TZOFFSETTO:-0500
RDATE:20310309T020000
RDATE:20320314T020000
END:DAYLIGHT
END:VTIMEZONE
BEGIN:VEVENT
UID:d7d8ab57-6369-45b9-97c2-782d2a711bda
DTSTAMP:20260425T010829Z
DESCRIPTION:Monthly Board Meeting
DTSTART;TZID=America/Chicago:20301213T180000
DTEND;TZID=America/Chicago:20301213T200000
LOCATION:Atrium Meeting Room
SUMMARY:Board Meeting
END:VEVENT
END:VCALENDAR
