BEGIN:VCALENDAR
VERSION:2.0
PRODID:-//axis.firespring.org//NONSGML kigkonsult.se iCalcreator 2.30.10//
CALSCALE:GREGORIAN
METHOD:PUBLISH
UID:03e72392-67e4-4648-9b6f-05114e590cc2
X-WR-CALDESC:Monthly Board Meeting
X-WR-RELCALID:dc2c8041d433bd0abedcc48a10db3e5b
X-WR-TIMEZONE:America/Chicago
BEGIN:VTIMEZONE
TZID:America/Chicago
BEGIN:STANDARD
TZNAME:CST
DTSTART:20301103T020000
TZOFFSETFROM:-0500
TZOFFSETTO:-0600
RDATE:20311102T020000
END:STANDARD
BEGIN:DAYLIGHT
TZNAME:CDT
DTSTART:20300310T020000
TZOFFSETFROM:-0600
TZOFFSETTO:-0500
RDATE:20310309T020000
RDATE:20320314T020000
END:DAYLIGHT
END:VTIMEZONE
BEGIN:VEVENT
UID:3aaf5ede-1b39-4e50-8a75-7ce16aada3ea
DTSTAMP:20260425T024629Z
DESCRIPTION:Monthly Board Meeting
DTSTART;TZID=America/Chicago:20310110T180000
DTEND;TZID=America/Chicago:20310110T200000
LOCATION:Atrium Meeting Room
SUMMARY:Board Meeting
END:VEVENT
END:VCALENDAR
