BEGIN:VCALENDAR
VERSION:2.0
PRODID:-//axis.firespring.org//NONSGML kigkonsult.se iCalcreator 2.30.10//
CALSCALE:GREGORIAN
METHOD:PUBLISH
UID:1f9c716c-71ef-4c85-8595-17fbd58c2806
X-WR-CALDESC:Monthly Board Meeting
X-WR-RELCALID:59d6ffb9cca6ccb0f1b24fe0982befb7
X-WR-TIMEZONE:America/Chicago
BEGIN:VTIMEZONE
TZID:America/Chicago
BEGIN:STANDARD
TZNAME:CST
DTSTART:20301103T020000
TZOFFSETFROM:-0500
TZOFFSETTO:-0600
RDATE:20311102T020000
END:STANDARD
BEGIN:DAYLIGHT
TZNAME:CDT
DTSTART:20300310T020000
TZOFFSETFROM:-0600
TZOFFSETTO:-0500
RDATE:20310309T020000
RDATE:20320314T020000
END:DAYLIGHT
END:VTIMEZONE
BEGIN:VEVENT
UID:0412925f-85fb-4504-a76d-fca412fead95
DTSTAMP:20260425T040847Z
DESCRIPTION:Monthly Board Meeting
DTSTART;TZID=America/Chicago:20310214T180000
DTEND;TZID=America/Chicago:20310214T200000
LOCATION:Atrium Meeting Room
SUMMARY:Board Meeting
END:VEVENT
END:VCALENDAR
