BEGIN:VCALENDAR
VERSION:2.0
PRODID:-//axis.firespring.org//NONSGML kigkonsult.se iCalcreator 2.30.10//
CALSCALE:GREGORIAN
METHOD:PUBLISH
UID:303172b5-8184-48cd-b015-46f6939a9d8f
X-WR-CALDESC:Monthly Board Meeting
X-WR-RELCALID:5e3e2bfcdd0bfb3af3cae2b38dda9527
X-WR-TIMEZONE:America/Chicago
BEGIN:VTIMEZONE
TZID:America/Chicago
BEGIN:STANDARD
TZNAME:CST
DTSTART:20301103T020000
TZOFFSETFROM:-0500
TZOFFSETTO:-0600
RDATE:20311102T020000
RDATE:20321107T020000
END:STANDARD
BEGIN:DAYLIGHT
TZNAME:CDT
DTSTART:20310309T020000
TZOFFSETFROM:-0600
TZOFFSETTO:-0500
RDATE:20320314T020000
END:DAYLIGHT
END:VTIMEZONE
BEGIN:VEVENT
UID:9cf3a800-31f6-4e6b-bce3-ea274f626238
DTSTAMP:20260425T104131Z
DESCRIPTION:Monthly Board Meeting
DTSTART;TZID=America/Chicago:20310613T180000
DTEND;TZID=America/Chicago:20310613T200000
LOCATION:Atrium Meeting Room
SUMMARY:Board Meeting
END:VEVENT
END:VCALENDAR
